BEGIN:VCALENDAR
VERSION:2.0
PRODID:-//Asociados Estaciones de Servicio de Colombia - ECPv6.15.13.1//NONSGML v1.0//EN
CALSCALE:GREGORIAN
METHOD:PUBLISH
X-ORIGINAL-URL:https://web.edsasociados.com
X-WR-CALDESC:Eventos para Asociados Estaciones de Servicio de Colombia
REFRESH-INTERVAL;VALUE=DURATION:PT1H
X-Robots-Tag:noindex
X-PUBLISHED-TTL:PT1H
BEGIN:VTIMEZONE
TZID:UTC
BEGIN:STANDARD
TZOFFSETFROM:+0000
TZOFFSETTO:+0000
TZNAME:UTC
DTSTART:20240101T000000
END:STANDARD
END:VTIMEZONE
BEGIN:VEVENT
DTSTART;TZID=UTC:20251211T100000
DTEND;TZID=UTC:20251211T120000
DTSTAMP:20260419T134413
CREATED:20260113T061307Z
LAST-MODIFIED:20260113T061307Z
UID:14969-1765447200-1765454400@web.edsasociados.com
SUMMARY:Fecha 2-Fortaleciendo el COPASST: Normatividad\, Conformación y Gestión Efectiva
DESCRIPTION:Charla sobre el RST – Régimen Simple de Tributación \nTema: Fortaleciendo el COPASST: Normatividad\, Conformación y Gestión Efectiva \nFecha 1: jueves 04 de diciembre Hora: 10:00 a.m. a 12: p.m. \nFecha 2: jueves 11 de diciembre Hora: 10:00 a.m. a 12: p.m. \nDuración: 2 horas \nDirigido a: Para todo el personal de las EDS \nPonente:  Diana Cataliza Salazar  Administradora en Salud y Especialista en Gerencia de SST- Consultora Integral
URL:https://web.edsasociados.com/evento/fecha-2-fortaleciendo-el-copasst-normatividad-conformacion-y-gestion-efectiva/
LOCATION:Virtual
ORGANIZER;CN="Asociados EDS de Colombia":MAILTO:info@edsasociados.com
END:VEVENT
END:VCALENDAR